BEGIN:VCALENDAR
VERSION:2.0
PRODID:-//wp-events-plugin.com//7.2.1//EN
BEGIN:VEVENT
UID:15@femveen.nl
DTSTART:20260421T193000Z
DTEND:20260421T220000Z
DTSTAMP:20260402T101143Z
URL:https://femveen.nl/events/21-april-bedrijfsbezoek-leuke-miniworkshop-m
 evrouwblauw/
SUMMARY:21 april 2026: Bedrijfsbezoek + leuke miniworkshop MevrouwBlauw
DESCRIPTION:Dinsdag 21 april is het zover: een bijzonder bedrijfsbezoek aan
  MevrouwBlauw!\n\nJullie zijn van harte welkom bij mij\, Machteld: eigenaa
 r én MevrouwBlauw her self.\nSpreker met passie en rasechte creatieve reg
 elneef\, voornamelijk werkzaam in de trouwbranche! 💙\n\nWat kunnen jull
 ie verwachten?\n- Gezellige ontvangst met koffie\, thee en iets lekkers\n-
  Via een korte wandeling/rondleiding over het terrein\, komen jullie uit b
 ij het Trouwlokaal\n- Jullie worden meegenomen in het ontstaan van mijn be
 drijf\, mijn passie voor spreken en organiseren en jullie krijgen een klei
 n stukje uit een ceremonie te horen\n- Gevolgd door een korte workshop: 
 ‘Hoe zorg jij er voor dat jouw (bedrijfs-) verhaal blijft hangen?’\, w
 aarbij jullie meegenomen worden in wat er invloed kan hebben op de boodsch
 ap die jij wilt overbrengen.\n- Uiteraard is er ruimte voor vragen en om e
 rvaringen te delen\n- Als afsluiting kunnen jullie onder het genot van een
  hapje en drankje blijven nakletsen met elkaar\n\nKom jij ook 21 april?\n\
 nLocatie: lokaal55\nAdres: oude oppenhuizerweg 55\, Sneek\nTijd: koffie/th
 ee en wat lekkers staat klaar vanaf 19.30 uur\, start 20.00 uur\n\n\n\nInt
 roduceés zijn van harte welkom.\n\nAanmelden kan via het onderstaande for
 mulier\n\n[wpforms id="1162"]
ATTACH;FMTTYPE=image/jpeg:https://femveen.nl/wp-content/uploads/2026/04/Me
 vrouw-Blauw.jpg
CATEGORIES:Bedrijfspresentatie
LOCATION:Lokaal 55\, Oude Oppenhuizerweg 55\, Sneek\, Friesland\, 8606 JB\,
  Nederland
X-APPLE-STRUCTURED-LOCATION;VALUE=URI;X-ADDRESS=Oude Oppenhuizerweg 55\, Sn
 eek\, Friesland\, 8606 JB\, Nederland;X-APPLE-RADIUS=100;X-TITLE=Lokaal 55
 :geo:0,0
END:VEVENT
END:VCALENDAR